BEGIN:VCALENDAR
PRODID:-//AT Content Types//AT Event//EN
VERSION:2.0
METHOD:PUBLISH
BEGIN:VEVENT
DTSTAMP:20260423T141446Z
CREATED:20190220T223530Z
UID:ATEvent-ca5f208a90d94854865d8a2f6b0abfcb
LAST-MODIFIED:20190220T223537Z
SUMMARY:XV Jornadas de Historia sobre el Descubrimiento de América "Los Estados Unidos y la provincia de Huelva: El otro lado de la vinculación americana"
DTSTART:20190308T153000Z
DTEND:20190309T130000Z
LOCATION:Casa Martín Alonso Pinzón. Palos de la Frontera
CLASS:PUBLIC
END:VEVENT
END:VCALENDAR
